BEGIN:VCALENDAR
VERSION:2.0
PRODID:-//KC Wheel - ECPv6.15.13//NONSGML v1.0//EN
CALSCALE:GREGORIAN
METHOD:PUBLISH
X-WR-CALNAME:KC Wheel
X-ORIGINAL-URL:https://kcwheel.com
X-WR-CALDESC:Events for KC Wheel
REFRESH-INTERVAL;VALUE=DURATION:PT1H
X-Robots-Tag:noindex
X-PUBLISHED-TTL:PT1H
BEGIN:VTIMEZONE
TZID:America/Chicago
BEGIN:DAYLIGHT
TZOFFSETFROM:-0600
TZOFFSETTO:-0500
TZNAME:CDT
DTSTART:20250309T080000
END:DAYLIGHT
BEGIN:STANDARD
TZOFFSETFROM:-0500
TZOFFSETTO:-0600
TZNAME:CST
DTSTART:20251102T070000
END:STANDARD
BEGIN:DAYLIGHT
TZOFFSETFROM:-0600
TZOFFSETTO:-0500
TZNAME:CDT
DTSTART:20260308T080000
END:DAYLIGHT
BEGIN:STANDARD
TZOFFSETFROM:-0500
TZOFFSETTO:-0600
TZNAME:CST
DTSTART:20261101T070000
END:STANDARD
BEGIN:DAYLIGHT
TZOFFSETFROM:-0600
TZOFFSETTO:-0500
TZNAME:CDT
DTSTART:20270314T080000
END:DAYLIGHT
BEGIN:STANDARD
TZOFFSETFROM:-0500
TZOFFSETTO:-0600
TZNAME:CST
DTSTART:20271107T070000
END:STANDARD
END:VTIMEZONE
BEGIN:VEVENT
DTSTART;TZID=America/Chicago:20260528T120000
DTEND;TZID=America/Chicago:20260528T140000
DTSTAMP:20260419T081415
CREATED:20260417T174157Z
LAST-MODIFIED:20260417T174157Z
UID:10006743-1779969600-1779976800@kcwheel.com
SUMMARY:KC Wheel
DESCRIPTION:
URL:https://kcwheel.com/event/kc-wheel/2026-05-28/
CATEGORIES:KC Wheel Hours
END:VEVENT
BEGIN:VEVENT
DTSTART;TZID=America/Chicago:20260528T120000
DTEND;TZID=America/Chicago:20260528T220000
DTSTAMP:20260419T081415
CREATED:20260216T204704Z
LAST-MODIFIED:20260216T204733Z
UID:10006289-1779969600-1780005600@kcwheel.com
SUMMARY:KC Wheel
DESCRIPTION:
URL:https://kcwheel.com/event/kc-wheel-16/2026-05-28/
CATEGORIES:KC Wheel Hours
END:VEVENT
BEGIN:VEVENT
DTSTART;TZID=America/Chicago:20260529T120000
DTEND;TZID=America/Chicago:20260529T140000
DTSTAMP:20260419T081415
CREATED:20260417T174157Z
LAST-MODIFIED:20260417T174157Z
UID:10006744-1780056000-1780063200@kcwheel.com
SUMMARY:KC Wheel
DESCRIPTION:
URL:https://kcwheel.com/event/kc-wheel/2026-05-29/
CATEGORIES:KC Wheel Hours
END:VEVENT
BEGIN:VEVENT
DTSTART;TZID=America/Chicago:20260529T120000
DTEND;TZID=America/Chicago:20260529T230000
DTSTAMP:20260419T081415
CREATED:20260216T202724Z
LAST-MODIFIED:20260216T202724Z
UID:10006206-1780056000-1780095600@kcwheel.com
SUMMARY:KC Wheel
DESCRIPTION:
URL:https://kcwheel.com/event/kc-wheel-7/2026-05-29/
CATEGORIES:KC Wheel Hours
END:VEVENT
BEGIN:VEVENT
DTSTART;TZID=America/Chicago:20260530T110000
DTEND;TZID=America/Chicago:20260530T230000
DTSTAMP:20260419T081415
CREATED:20260216T203636Z
LAST-MODIFIED:20260219T205953Z
UID:10006260-1780138800-1780182000@kcwheel.com
SUMMARY:KC Wheel
DESCRIPTION:
URL:https://kcwheel.com/event/kc-wheel-15/2026-05-30/
CATEGORIES:KC Wheel Hours
END:VEVENT
BEGIN:VEVENT
DTSTART;TZID=America/Chicago:20260531T110000
DTEND;TZID=America/Chicago:20260531T220000
DTSTAMP:20260419T081415
CREATED:20260216T204450Z
LAST-MODIFIED:20260327T153308Z
UID:10006270-1780225200-1780264800@kcwheel.com
SUMMARY:KC Wheel
DESCRIPTION:
URL:https://kcwheel.com/event/kc-wheel-12/2026-05-31/
CATEGORIES:KC Wheel Hours
END:VEVENT
BEGIN:VEVENT
DTSTART;TZID=America/Chicago:20260601T120000
DTEND;TZID=America/Chicago:20260601T220000
DTSTAMP:20260419T081416
CREATED:20260327T152628Z
LAST-MODIFIED:20260327T152628Z
UID:10006359-1780315200-1780351200@kcwheel.com
SUMMARY:KC Wheel
DESCRIPTION:
URL:https://kcwheel.com/event/kc-wheel-13/2026-06-01/
CATEGORIES:KC Wheel Hours
END:VEVENT
BEGIN:VEVENT
DTSTART;TZID=America/Chicago:20260602T120000
DTEND;TZID=America/Chicago:20260602T140000
DTSTAMP:20260419T081416
CREATED:20260417T174157Z
LAST-MODIFIED:20260417T174157Z
UID:10006745-1780401600-1780408800@kcwheel.com
SUMMARY:KC Wheel
DESCRIPTION:
URL:https://kcwheel.com/event/kc-wheel/2026-06-02/
CATEGORIES:KC Wheel Hours
END:VEVENT
BEGIN:VEVENT
DTSTART;TZID=America/Chicago:20260602T120000
DTEND;TZID=America/Chicago:20260602T220000
DTSTAMP:20260419T081416
CREATED:20260327T152628Z
LAST-MODIFIED:20260327T152628Z
UID:10006360-1780401600-1780437600@kcwheel.com
SUMMARY:KC Wheel
DESCRIPTION:
URL:https://kcwheel.com/event/kc-wheel-13/2026-06-02/
CATEGORIES:KC Wheel Hours
END:VEVENT
BEGIN:VEVENT
DTSTART;TZID=America/Chicago:20260603T120000
DTEND;TZID=America/Chicago:20260603T140000
DTSTAMP:20260419T081416
CREATED:20260417T174157Z
LAST-MODIFIED:20260417T174157Z
UID:10006746-1780488000-1780495200@kcwheel.com
SUMMARY:KC Wheel
DESCRIPTION:
URL:https://kcwheel.com/event/kc-wheel/2026-06-03/
CATEGORIES:KC Wheel Hours
END:VEVENT
BEGIN:VEVENT
DTSTART;TZID=America/Chicago:20260603T120000
DTEND;TZID=America/Chicago:20260603T220000
DTSTAMP:20260419T081416
CREATED:20260327T152628Z
LAST-MODIFIED:20260327T152628Z
UID:10006361-1780488000-1780524000@kcwheel.com
SUMMARY:KC Wheel
DESCRIPTION:
URL:https://kcwheel.com/event/kc-wheel-13/2026-06-03/
CATEGORIES:KC Wheel Hours
END:VEVENT
BEGIN:VEVENT
DTSTART;TZID=America/Chicago:20260604T120000
DTEND;TZID=America/Chicago:20260604T140000
DTSTAMP:20260419T081416
CREATED:20260417T174157Z
LAST-MODIFIED:20260417T174157Z
UID:10006747-1780574400-1780581600@kcwheel.com
SUMMARY:KC Wheel
DESCRIPTION:
URL:https://kcwheel.com/event/kc-wheel/2026-06-04/
CATEGORIES:KC Wheel Hours
END:VEVENT
BEGIN:VEVENT
DTSTART;TZID=America/Chicago:20260604T120000
DTEND;TZID=America/Chicago:20260604T220000
DTSTAMP:20260419T081416
CREATED:20260327T152628Z
LAST-MODIFIED:20260327T152628Z
UID:10006362-1780574400-1780610400@kcwheel.com
SUMMARY:KC Wheel
DESCRIPTION:
URL:https://kcwheel.com/event/kc-wheel-13/2026-06-04/
CATEGORIES:KC Wheel Hours
END:VEVENT
BEGIN:VEVENT
DTSTART;TZID=America/Chicago:20260605T120000
DTEND;TZID=America/Chicago:20260605T140000
DTSTAMP:20260419T081416
CREATED:20260417T174157Z
LAST-MODIFIED:20260417T174157Z
UID:10006748-1780660800-1780668000@kcwheel.com
SUMMARY:KC Wheel
DESCRIPTION:
URL:https://kcwheel.com/event/kc-wheel/2026-06-05/
CATEGORIES:KC Wheel Hours
END:VEVENT
BEGIN:VEVENT
DTSTART;TZID=America/Chicago:20260605T120000
DTEND;TZID=America/Chicago:20260605T230000
DTSTAMP:20260419T081416
CREATED:20260327T153031Z
LAST-MODIFIED:20260327T153031Z
UID:10006387-1780660800-1780700400@kcwheel.com
SUMMARY:KC Wheel
DESCRIPTION:
URL:https://kcwheel.com/event/kc-wheel-17/2026-06-05/
CATEGORIES:KC Wheel Hours
END:VEVENT
BEGIN:VEVENT
DTSTART;TZID=America/Chicago:20260606T110000
DTEND;TZID=America/Chicago:20260606T230000
DTSTAMP:20260419T081416
CREATED:20260327T153227Z
LAST-MODIFIED:20260327T153227Z
UID:10006399-1780743600-1780786800@kcwheel.com
SUMMARY:KC Wheel
DESCRIPTION:
URL:https://kcwheel.com/event/kc-wheel-18/
CATEGORIES:KC Wheel Hours
END:VEVENT
BEGIN:VEVENT
DTSTART;TZID=America/Chicago:20260607T110000
DTEND;TZID=America/Chicago:20260607T220000
DTSTAMP:20260419T081416
CREATED:20260216T204450Z
LAST-MODIFIED:20260327T153308Z
UID:10006401-1780830000-1780869600@kcwheel.com
SUMMARY:KC Wheel
DESCRIPTION:
URL:https://kcwheel.com/event/kc-wheel-12/2026-06-07/
CATEGORIES:KC Wheel Hours
END:VEVENT
BEGIN:VEVENT
DTSTART;TZID=America/Chicago:20260608T120000
DTEND;TZID=America/Chicago:20260608T220000
DTSTAMP:20260419T081416
CREATED:20260327T152628Z
LAST-MODIFIED:20260327T152628Z
UID:10006363-1780920000-1780956000@kcwheel.com
SUMMARY:KC Wheel
DESCRIPTION:
URL:https://kcwheel.com/event/kc-wheel-13/2026-06-08/
CATEGORIES:KC Wheel Hours
END:VEVENT
BEGIN:VEVENT
DTSTART;TZID=America/Chicago:20260609T120000
DTEND;TZID=America/Chicago:20260609T140000
DTSTAMP:20260419T081416
CREATED:20260417T174157Z
LAST-MODIFIED:20260417T174157Z
UID:10006749-1781006400-1781013600@kcwheel.com
SUMMARY:KC Wheel
DESCRIPTION:
URL:https://kcwheel.com/event/kc-wheel/2026-06-09/
CATEGORIES:KC Wheel Hours
END:VEVENT
BEGIN:VEVENT
DTSTART;TZID=America/Chicago:20260609T120000
DTEND;TZID=America/Chicago:20260609T220000
DTSTAMP:20260419T081416
CREATED:20260327T152628Z
LAST-MODIFIED:20260327T152628Z
UID:10006364-1781006400-1781042400@kcwheel.com
SUMMARY:KC Wheel
DESCRIPTION:
URL:https://kcwheel.com/event/kc-wheel-13/2026-06-09/
CATEGORIES:KC Wheel Hours
END:VEVENT
BEGIN:VEVENT
DTSTART;TZID=America/Chicago:20260610T120000
DTEND;TZID=America/Chicago:20260610T140000
DTSTAMP:20260419T081416
CREATED:20260417T174157Z
LAST-MODIFIED:20260417T174157Z
UID:10006750-1781092800-1781100000@kcwheel.com
SUMMARY:KC Wheel
DESCRIPTION:
URL:https://kcwheel.com/event/kc-wheel/2026-06-10/
CATEGORIES:KC Wheel Hours
END:VEVENT
BEGIN:VEVENT
DTSTART;TZID=America/Chicago:20260610T120000
DTEND;TZID=America/Chicago:20260610T220000
DTSTAMP:20260419T081416
CREATED:20260327T152628Z
LAST-MODIFIED:20260327T152628Z
UID:10006365-1781092800-1781128800@kcwheel.com
SUMMARY:KC Wheel
DESCRIPTION:
URL:https://kcwheel.com/event/kc-wheel-13/2026-06-10/
CATEGORIES:KC Wheel Hours
END:VEVENT
BEGIN:VEVENT
DTSTART;TZID=America/Chicago:20260611T120000
DTEND;TZID=America/Chicago:20260611T140000
DTSTAMP:20260419T081416
CREATED:20260417T174157Z
LAST-MODIFIED:20260417T174157Z
UID:10006751-1781179200-1781186400@kcwheel.com
SUMMARY:KC Wheel
DESCRIPTION:
URL:https://kcwheel.com/event/kc-wheel/2026-06-11/
CATEGORIES:KC Wheel Hours
END:VEVENT
BEGIN:VEVENT
DTSTART;TZID=America/Chicago:20260611T120000
DTEND;TZID=America/Chicago:20260611T220000
DTSTAMP:20260419T081416
CREATED:20260327T152628Z
LAST-MODIFIED:20260327T152628Z
UID:10006366-1781179200-1781215200@kcwheel.com
SUMMARY:KC Wheel
DESCRIPTION:
URL:https://kcwheel.com/event/kc-wheel-13/2026-06-11/
CATEGORIES:KC Wheel Hours
END:VEVENT
BEGIN:VEVENT
DTSTART;TZID=America/Chicago:20260612T120000
DTEND;TZID=America/Chicago:20260612T140000
DTSTAMP:20260419T081416
CREATED:20260417T174157Z
LAST-MODIFIED:20260417T174157Z
UID:10006752-1781265600-1781272800@kcwheel.com
SUMMARY:KC Wheel
DESCRIPTION:
URL:https://kcwheel.com/event/kc-wheel/2026-06-12/
CATEGORIES:KC Wheel Hours
END:VEVENT
BEGIN:VEVENT
DTSTART;TZID=America/Chicago:20260612T120000
DTEND;TZID=America/Chicago:20260612T230000
DTSTAMP:20260419T081416
CREATED:20260327T153031Z
LAST-MODIFIED:20260327T153031Z
UID:10006388-1781265600-1781305200@kcwheel.com
SUMMARY:KC Wheel
DESCRIPTION:
URL:https://kcwheel.com/event/kc-wheel-17/2026-06-12/
CATEGORIES:KC Wheel Hours
END:VEVENT
BEGIN:VEVENT
DTSTART;VALUE=DATE:20260613
DTEND;VALUE=DATE:20260614
DTSTAMP:20260419T081416
CREATED:20260327T153613Z
LAST-MODIFIED:20260327T153613Z
UID:10006411-1781308800-1781395199@kcwheel.com
SUMMARY:Closed for Private Event
DESCRIPTION:
URL:https://kcwheel.com/event/closed-for-private-event/
CATEGORIES:KC Wheel Hours
END:VEVENT
BEGIN:VEVENT
DTSTART;TZID=America/Chicago:20260614T110000
DTEND;TZID=America/Chicago:20260614T230000
DTSTAMP:20260419T081416
CREATED:20260327T153735Z
LAST-MODIFIED:20260327T153735Z
UID:10006420-1781434800-1781478000@kcwheel.com
SUMMARY:KC Wheel
DESCRIPTION:
URL:https://kcwheel.com/event/kc-wheel-19/2026-06-14/
CATEGORIES:KC Wheel Hours
END:VEVENT
BEGIN:VEVENT
DTSTART;TZID=America/Chicago:20260615T110000
DTEND;TZID=America/Chicago:20260615T230000
DTSTAMP:20260419T081416
CREATED:20260327T153735Z
LAST-MODIFIED:20260327T153735Z
UID:10006421-1781521200-1781564400@kcwheel.com
SUMMARY:KC Wheel
DESCRIPTION:
URL:https://kcwheel.com/event/kc-wheel-19/2026-06-15/
CATEGORIES:KC Wheel Hours
END:VEVENT
BEGIN:VEVENT
DTSTART;TZID=America/Chicago:20260616T110000
DTEND;TZID=America/Chicago:20260616T230000
DTSTAMP:20260419T081416
CREATED:20260327T153735Z
LAST-MODIFIED:20260327T153735Z
UID:10006422-1781607600-1781650800@kcwheel.com
SUMMARY:KC Wheel
DESCRIPTION:
URL:https://kcwheel.com/event/kc-wheel-19/2026-06-16/
CATEGORIES:KC Wheel Hours
END:VEVENT
END:VCALENDAR